BEGIN:VCALENDAR
VERSION:2.0
PRODID:-//Allgemeiner Sch&uuml;tzenverein Hollwede 1921 e.V. - ECPv6.15.20//NONSGML v1.0//EN
CALSCALE:GREGORIAN
METHOD:PUBLISH
X-ORIGINAL-URL:https://hollwede.de
X-WR-CALDESC:Veranstaltungen für Allgemeiner Sch&uuml;tzenverein Hollwede 1921 e.V.
REFRESH-INTERVAL;VALUE=DURATION:PT1H
X-Robots-Tag:noindex
X-PUBLISHED-TTL:PT1H
BEGIN:VTIMEZONE
TZID:UTC
BEGIN:STANDARD
TZOFFSETFROM:+0000
TZOFFSETTO:+0000
TZNAME:UTC
DTSTART:20250101T000000
END:STANDARD
END:VTIMEZONE
BEGIN:VTIMEZONE
TZID:Europe/Berlin
BEGIN:DAYLIGHT
TZOFFSETFROM:+0100
TZOFFSETTO:+0200
TZNAME:CEST
DTSTART:20240331T010000
END:DAYLIGHT
BEGIN:STANDARD
TZOFFSETFROM:+0200
TZOFFSETTO:+0100
TZNAME:CET
DTSTART:20241027T010000
END:STANDARD
BEGIN:DAYLIGHT
TZOFFSETFROM:+0100
TZOFFSETTO:+0200
TZNAME:CEST
DTSTART:20250330T010000
END:DAYLIGHT
BEGIN:STANDARD
TZOFFSETFROM:+0200
TZOFFSETTO:+0100
TZNAME:CET
DTSTART:20251026T010000
END:STANDARD
BEGIN:DAYLIGHT
TZOFFSETFROM:+0100
TZOFFSETTO:+0200
TZNAME:CEST
DTSTART:20260329T010000
END:DAYLIGHT
BEGIN:STANDARD
TZOFFSETFROM:+0200
TZOFFSETTO:+0100
TZNAME:CET
DTSTART:20261025T010000
END:STANDARD
END:VTIMEZONE
BEGIN:VEVENT
DTSTART;TZID=UTC:20260124T200000
DTEND;TZID=UTC:20260124T233000
DTSTAMP:20260423T122304
CREATED:20251111T173823Z
LAST-MODIFIED:20260107T170212Z
UID:67-1769284800-1769297400@hollwede.de
SUMMARY:Jahreshauptversammlung
DESCRIPTION:Am Samstag\, dem 24. Januar 2026\, findet die Jahreshauptversammlung des Schützenvereins Hollwede statt. Beginn der Versammlung ist um 20.00 Uhr im Jägerheim in Hollwede. Hierzu sind alle Vereinsmitglieder herzlich eingeladen. \nFolgende Tagesordnung ist geplant: \n\nProtokoll der JHV 2025\nBericht der Spartenleiter\nKassenbericht\nBericht der Kassenprüfer\nRückblick 2025\nVorstandswahlen\nSchützenfest 2026\nAnträge\nEhrungen\nVerschiedenes\n\n  \n 
URL:https://hollwede.de/veranstaltung/jhv/
LOCATION:Jägerheim Hollwede\, Hollweder Str. 12\, Stemwede\, 32351
END:VEVENT
BEGIN:VEVENT
DTSTART;TZID=Europe/Berlin:20251129T160000
DTEND;TZID=Europe/Berlin:20251129T233000
DTSTAMP:20260423T122304
CREATED:20251118T190049Z
LAST-MODIFIED:20251123T145233Z
UID:95-1764432000-1764459000@hollwede.de
SUMMARY:Winterfest
DESCRIPTION:Hollweder Winterfest am 29.11.25 im Gasthaus Jobusch. \nBegonnen wird wieder am Nachmittag um 16.00 Uhr mit einem Kaffeetrinken für die „Alte Garde“\, dem Hofstaat\, den ehemaligen Königen sowie den Witwen verstorbener Kameraden beginnen. Zum Kaffee gibt es wieder ein Stück Torte und Kaffee und Kuchen „satt“. Anschließend besteht die Möglichkeit in geselliger Runde zu klönen und es wird wieder ein kurzer Film vom diesjährigen Schützenfest gezeigt. \nDas Abendessen gibt es gegen 19.00 Uhr. Die Gäste vom Nachmittag sowie allen anderen Mitglieder mit Partner können sich wieder am Buffettisch an Krustenbraten und Puten-Gyros mit entsprechenden Beilagen und Salaten reichlich bedienen. \nDJ Christopher Brietsche auch bekannt als „DJ Chris Cue“ wird dann anschließend wieder für Party Stimmung sorgen!
URL:https://hollwede.de/veranstaltung/winterball/
LOCATION:Gasthaus Jobusch
END:VEVENT
END:VCALENDAR